BEGIN:VCALENDAR
VERSION:2.0
PRODID:-//wp-events-plugin.com//6.1.3//EN
TZID:America/Chicago
X-WR-TIMEZONE:America/Chicago
BEGIN:VEVENT
UID:373@mrpitts.com
DTSTART;TZID=America/Chicago:20260425T141500
DTEND;TZID=America/Chicago:20260425T150000
DTSTAMP:20260325T154905Z
URL:https://mrpitts.com/events/family-magic-and-puppet-show-16/
SUMMARY:Family Magic and Puppet Show
DESCRIPTION:Family and children's entertainer David Pitts\, also known as T
 he Astonishing Mr. Pitts\, brings magic\, puppets\, and fun to the Kids Ki
 ngdom Stage at The King William Fair as a part of the San Antonio Fiesta!
ATTACH;FMTTYPE=image/jpeg:https://mrpitts.com/wp-content/uploads/2022/11/f
 rankdave3.jpg
CATEGORIES:children's magic show,children's puppet show,family magic
 show,family puppet show,family ventriloquism show,festival
LOCATION:King William Fair\, 247 Washington St\, San Antonio\, TX\, 78204\,
  United States
X-APPLE-STRUCTURED-LOCATION;VALUE=URI;X-ADDRESS=247 Washington St\, San Ant
 onio\, TX\, 78204\, United States;X-APPLE-RADIUS=100;X-TITLE=King William 
 Fair:geo:0,0
END:VEVENT
BEGIN:VTIMEZONE
TZID:America/Chicago
X-LIC-LOCATION:America/Chicago
BEGIN:DAYLIGHT
DTSTART:20260308T030000
TZOFFSETFROM:-0600
TZOFFSETTO:-0500
TZNAME:CDT
END:DAYLIGHT
END:VTIMEZONE
END:VCALENDAR